Package: QUBICdata Version: 1.37.0 Command: /home/biocbuild/bbs-3.22-bioc/R/bin/R CMD build --keep-empty-dirs --no-resave-data QUBICdata StartedAt: 2025-10-02 11:36:46 -0400 (Thu, 02 Oct 2025) EndedAt: 2025-10-02 11:36:52 -0400 (Thu, 02 Oct 2025) EllapsedTime: 6.0 seconds RetCode: 0 Status: OK PackageFile: QUBICdata_1.37.0.tar.gz PackageFileSize: 9.848 MiB