Package: RTCGA.clinical Version: 20151101.41.0 Command: /home/biocbuild/bbs-3.23-bioc/R/bin/R CMD INSTALL RTCGA.clinical StartedAt: 2025-11-27 11:04:17 -0500 (Thu, 27 Nov 2025) EndedAt: 2025-11-27 11:05:00 -0500 (Thu, 27 Nov 2025) EllapsedTime: 42.5 seconds RetCode: 0 Status: OK