Package: RTCGA.mutations Version: 20151101.39.0 Command: /home/biocbuild/bbs-3.22-bioc/R/bin/R CMD INSTALL RTCGA.mutations StartedAt: 2025-07-10 11:04:52 -0400 (Thu, 10 Jul 2025) EndedAt: 2025-07-10 11:07:58 -0400 (Thu, 10 Jul 2025) EllapsedTime: 186.0 seconds RetCode: 0 Status: OK