Package: RegParallel Version: 1.27.0 Command: /home/biocbuild/bbs-3.22-bioc/R/bin/R CMD build --keep-empty-dirs --no-resave-data RegParallel StartedAt: 2025-07-10 11:38:01 -0400 (Thu, 10 Jul 2025) EndedAt: 2025-07-10 11:44:42 -0400 (Thu, 10 Jul 2025) EllapsedTime: 400.8 seconds RetCode: 0 Status: OK PackageFile: RegParallel_1.27.0.tar.gz PackageFileSize: 634.5 KiB