Package: RforProteomics Version: 1.47.0 Command: /home/biocbuild/bbs-3.22-bioc/R/bin/R CMD build --keep-empty-dirs --no-resave-data RforProteomics StartedAt: 2025-07-10 11:38:02 -0400 (Thu, 10 Jul 2025) EndedAt: 2025-07-10 11:44:00 -0400 (Thu, 10 Jul 2025) EllapsedTime: 357.3 seconds RetCode: 0 Status: OK PackageFile: RforProteomics_1.47.0.tar.gz PackageFileSize: 9.159 MiB