Package: RforProteomics Version: 1.47.0 Command: /home/biocbuild/bbs-3.22-bioc/R/bin/R CMD INSTALL RforProteomics StartedAt: 2025-07-10 11:00:25 -0400 (Thu, 10 Jul 2025) EndedAt: 2025-07-10 11:01:09 -0400 (Thu, 10 Jul 2025) EllapsedTime: 43.6 seconds RetCode: 0 Status: OK