Package: RnBeads.hg19 Version: 1.41.0 Command: /home/biocbuild/bbs-3.22-bioc/R/bin/R CMD INSTALL RnBeads.hg19 StartedAt: 2025-07-24 10:58:06 -0400 (Thu, 24 Jul 2025) EndedAt: 2025-07-24 10:58:14 -0400 (Thu, 24 Jul 2025) EllapsedTime: 8.1 seconds RetCode: 0 Status: OK