Package: STexampleData Version: 1.17.1 Command: /home/biocbuild/bbs-3.22-bioc/R/bin/R CMD check --install=check:STexampleData.install-out.txt --library=/home/biocbuild/bbs-3.22-bioc/R/site-library --timings STexampleData_1.17.1.tar.gz StartedAt: 2025-10-07 13:05:21 -0400 (Tue, 07 Oct 2025) EndedAt: 2025-10-07 13:10:47 -0400 (Tue, 07 Oct 2025) EllapsedTime: 326.1 seconds RetCode: 0 Status: OK CheckDir: STexampleData.Rcheck Warnings: 0