Package: SpatialDatasets Version: 1.9.0 Command: /home/biocbuild/bbs-3.23-bioc/R/bin/R CMD INSTALL SpatialDatasets StartedAt: 2025-11-20 10:58:32 -0500 (Thu, 20 Nov 2025) EndedAt: 2025-11-20 10:59:01 -0500 (Thu, 20 Nov 2025) EllapsedTime: 28.7 seconds RetCode: 0 Status: OK