Package: SpatialDatasets Version: 1.7.3 Command: /home/biocbuild/bbs-3.22-bioc/R/bin/R CMD build --keep-empty-dirs --no-resave-data SpatialDatasets StartedAt: 2025-07-10 11:43:42 -0400 (Thu, 10 Jul 2025) EndedAt: 2025-07-10 12:01:49 -0400 (Thu, 10 Jul 2025) EllapsedTime: 1086.9 seconds RetCode: 0 Status: OK PackageFile: SpatialDatasets_1.7.3.tar.gz PackageFileSize: 227.8 KiB