Package: SpatialDatasets Version: 1.7.3 Command: /home/biocbuild/bbs-3.22-bioc/R/bin/R CMD INSTALL SpatialDatasets StartedAt: 2025-07-10 10:58:22 -0400 (Thu, 10 Jul 2025) EndedAt: 2025-07-10 10:58:55 -0400 (Thu, 10 Jul 2025) EllapsedTime: 32.3 seconds RetCode: 0 Status: OK