Package: TENET.ExperimentHub Version: 1.1.2 Command: /home/biocbuild/bbs-3.22-bioc/R/bin/R CMD build --keep-empty-dirs --no-resave-data TENET.ExperimentHub StartedAt: 2025-10-28 11:44:26 -0400 (Tue, 28 Oct 2025) EndedAt: 2025-10-28 11:45:22 -0400 (Tue, 28 Oct 2025) EllapsedTime: 55.6 seconds RetCode: 0 Status: OK PackageFile: TENET.ExperimentHub_1.1.2.tar.gz PackageFileSize: 245.8 KiB