Package: antiProfilesData Version: 1.45.0 Command: /home/biocbuild/bbs-3.22-bioc/R/bin/R CMD INSTALL antiProfilesData StartedAt: 2025-10-02 10:56:05 -0400 (Thu, 02 Oct 2025) EndedAt: 2025-10-02 10:56:07 -0400 (Thu, 02 Oct 2025) EllapsedTime: 2.1 seconds RetCode: 0 Status: OK