Package: bugphyzz Version: 1.5.0 Command: /home/biocbuild/bbs-3.23-bioc/R/bin/R CMD INSTALL bugphyzz StartedAt: 2025-11-13 10:56:41 -0500 (Thu, 13 Nov 2025) EndedAt: 2025-11-13 10:56:44 -0500 (Thu, 13 Nov 2025) EllapsedTime: 2.6 seconds RetCode: 0 Status: OK