Package: bugphyzz Version: 1.3.0 Command: /home/biocbuild/bbs-3.22-bioc/R/bin/R CMD INSTALL bugphyzz StartedAt: 2025-07-17 10:56:35 -0400 (Thu, 17 Jul 2025) EndedAt: 2025-07-17 10:56:37 -0400 (Thu, 17 Jul 2025) EllapsedTime: 2.3 seconds RetCode: 0 Status: OK