Package: celldex Version: 1.19.0 Command: /home/biocbuild/bbs-3.22-bioc/R/bin/R CMD build --keep-empty-dirs --no-resave-data celldex StartedAt: 2025-07-17 11:08:32 -0400 (Thu, 17 Jul 2025) EndedAt: 2025-07-17 11:09:27 -0400 (Thu, 17 Jul 2025) EllapsedTime: 55.5 seconds RetCode: 0 Status: OK PackageFile: celldex_1.19.0.tar.gz PackageFileSize: 402.6 KiB