Package: crisprScoreData Version: 1.13.0 Command: /home/biocbuild/bbs-3.22-bioc/R/bin/R CMD build --keep-empty-dirs --no-resave-data crisprScoreData StartedAt: 2025-07-24 11:12:06 -0400 (Thu, 24 Jul 2025) EndedAt: 2025-07-24 11:12:42 -0400 (Thu, 24 Jul 2025) EllapsedTime: 35.7 seconds RetCode: 0 Status: OK PackageFile: crisprScoreData_1.13.0.tar.gz PackageFileSize: 6.089 MiB