Package: crisprScoreData Version: 1.13.0 Command: /home/biocbuild/bbs-3.22-bioc/R/bin/R CMD INSTALL crisprScoreData StartedAt: 2025-07-24 10:57:36 -0400 (Thu, 24 Jul 2025) EndedAt: 2025-07-24 10:57:50 -0400 (Thu, 24 Jul 2025) EllapsedTime: 14.8 seconds RetCode: 0 Status: OK