Package: curatedOvarianData Version: 1.47.2 Command: /home/biocbuild/bbs-3.22-bioc/R/bin/R CMD INSTALL curatedOvarianData StartedAt: 2025-07-24 10:56:18 -0400 (Thu, 24 Jul 2025) EndedAt: 2025-07-24 10:56:28 -0400 (Thu, 24 Jul 2025) EllapsedTime: 9.5 seconds RetCode: 0 Status: OK