Package: curatedTCGAData Version: 1.33.1 Command: /home/biocbuild/bbs-3.23-bioc/R/bin/R CMD build --keep-empty-dirs --no-resave-data curatedTCGAData StartedAt: 2025-11-20 11:13:31 -0500 (Thu, 20 Nov 2025) EndedAt: 2025-11-20 11:14:44 -0500 (Thu, 20 Nov 2025) EllapsedTime: 72.9 seconds RetCode: 0 Status: OK PackageFile: curatedTCGAData_1.33.1.tar.gz PackageFileSize: 417.1 KiB