Package: curatedTCGAData Version: 1.33.1 Command: /home/biocbuild/bbs-3.23-bioc/R/bin/R CMD INSTALL curatedTCGAData StartedAt: 2025-11-20 10:59:22 -0500 (Thu, 20 Nov 2025) EndedAt: 2025-11-20 10:59:49 -0500 (Thu, 20 Nov 2025) EllapsedTime: 27.6 seconds RetCode: 0 Status: OK