Package: diffloopdata Version: 1.39.0 Command: /home/biocbuild/bbs-3.23-bioc/R/bin/R CMD build --keep-empty-dirs --no-resave-data diffloopdata StartedAt: 2025-11-20 11:15:22 -0500 (Thu, 20 Nov 2025) EndedAt: 2025-11-20 11:15:34 -0500 (Thu, 20 Nov 2025) EllapsedTime: 11.8 seconds RetCode: 0 Status: OK PackageFile: diffloopdata_1.39.0.tar.gz PackageFileSize: 11.08 MiB