Package: diffloopdata Version: 1.39.0 Command: /home/biocbuild/bbs-3.23-bioc/R/bin/R CMD INSTALL diffloopdata StartedAt: 2025-11-20 10:55:28 -0500 (Thu, 20 Nov 2025) EndedAt: 2025-11-20 10:55:29 -0500 (Thu, 20 Nov 2025) EllapsedTime: 2.0 seconds RetCode: 0 Status: OK