Package: diggitdata Version: 1.41.0 Command: /home/biocbuild/bbs-3.22-bioc/R/bin/R CMD INSTALL diggitdata StartedAt: 2025-07-10 10:57:44 -0400 (Thu, 10 Jul 2025) EndedAt: 2025-07-10 10:57:51 -0400 (Thu, 10 Jul 2025) EllapsedTime: 7.5 seconds RetCode: 0 Status: OK