Package: etec16s Version: 1.37.0 Command: /home/biocbuild/bbs-3.22-bioc/R/bin/R CMD build --keep-empty-dirs --no-resave-data etec16s StartedAt: 2025-10-28 11:15:58 -0400 (Tue, 28 Oct 2025) EndedAt: 2025-10-28 11:16:08 -0400 (Tue, 28 Oct 2025) EllapsedTime: 10.3 seconds RetCode: 0 Status: OK PackageFile: etec16s_1.37.0.tar.gz PackageFileSize: 309.7 KiB