Package: faahKO Version: 1.49.1 Command: /home/biocbuild/bbs-3.22-bioc/R/bin/R CMD build --keep-empty-dirs --no-resave-data faahKO StartedAt: 2025-10-16 11:16:23 -0400 (Thu, 16 Oct 2025) EndedAt: 2025-10-16 11:17:11 -0400 (Thu, 16 Oct 2025) EllapsedTime: 48.5 seconds RetCode: 0 Status: OK PackageFile: faahKO_1.49.1.tar.gz PackageFileSize: 16.03 MiB