Package: faahKO Version: 1.49.1 Command: /home/biocbuild/bbs-3.22-bioc/R/bin/R CMD INSTALL faahKO StartedAt: 2025-10-16 11:04:20 -0400 (Thu, 16 Oct 2025) EndedAt: 2025-10-16 11:05:16 -0400 (Thu, 16 Oct 2025) EllapsedTime: 56.4 seconds RetCode: 0 Status: OK