Package: flowWorkspaceData Version: 3.21.0 Command: /home/biocbuild/bbs-3.22-bioc/R/bin/R CMD INSTALL flowWorkspaceData StartedAt: 2025-07-10 10:55:38 -0400 (Thu, 10 Jul 2025) EndedAt: 2025-07-10 10:55:39 -0400 (Thu, 10 Jul 2025) EllapsedTime: 1.4 seconds RetCode: 0 Status: OK