Package: harbChIP Version: 1.49.0 Command: /home/biocbuild/bbs-3.23-bioc/R/bin/R CMD build --keep-empty-dirs --no-resave-data harbChIP StartedAt: 2025-11-13 11:21:53 -0500 (Thu, 13 Nov 2025) EndedAt: 2025-11-13 11:22:16 -0500 (Thu, 13 Nov 2025) EllapsedTime: 22.6 seconds RetCode: 0 Status: OK PackageFile: harbChIP_1.49.0.tar.gz PackageFileSize: 7.204 MiB