Package: homosapienDEE2CellScore Version: 1.5.0 Command: /home/biocbuild/bbs-3.22-bioc/R/bin/R CMD build --keep-empty-dirs --no-resave-data homosapienDEE2CellScore StartedAt: 2025-07-10 11:25:03 -0400 (Thu, 10 Jul 2025) EndedAt: 2025-07-10 11:28:19 -0400 (Thu, 10 Jul 2025) EllapsedTime: 195.7 seconds RetCode: 0 Status: OK PackageFile: homosapienDEE2CellScore_1.5.0.tar.gz PackageFileSize: 256.8 KiB