Package: homosapienDEE2CellScore Version: 1.5.0 Command: /home/biocbuild/bbs-3.22-bioc/R/bin/R CMD INSTALL homosapienDEE2CellScore StartedAt: 2025-07-10 11:00:07 -0400 (Thu, 10 Jul 2025) EndedAt: 2025-07-10 11:00:40 -0400 (Thu, 10 Jul 2025) EllapsedTime: 33.5 seconds RetCode: 0 Status: OK