Package: iModMixData Version: 0.99.6 Command: /home/biocbuild/bbs-3.22-bioc/R/bin/R CMD check --install=check:iModMixData.install-out.txt --library=/home/biocbuild/bbs-3.22-bioc/R/site-library --timings iModMixData_0.99.6.tar.gz StartedAt: 2025-10-09 12:36:06 -0400 (Thu, 09 Oct 2025) EndedAt: 2025-10-09 12:37:56 -0400 (Thu, 09 Oct 2025) EllapsedTime: 109.3 seconds RetCode: 0 Status: OK CheckDir: iModMixData.Rcheck Warnings: 0