Package: lungExpression Version: 0.47.0 Command: /home/biocbuild/bbs-3.22-bioc/R/bin/R CMD INSTALL lungExpression StartedAt: 2025-07-10 10:56:02 -0400 (Thu, 10 Jul 2025) EndedAt: 2025-07-10 10:56:04 -0400 (Thu, 10 Jul 2025) EllapsedTime: 2.1 seconds RetCode: 0 Status: OK