Package: mCSEAdata Version: 1.31.0 Maintainer: Jordi Martorell Marugán MaintainerEmail: jmartorellm at gmail.com git_url: https://git.bioconductor.org/packages/mCSEAdata git_branch: devel git_last_commit: eb288ae git_last_commit_date: 2025-10-29 09:59:48 -0400 (Wed, 29 Oct 2025)