Package: marinerData Version: 1.9.0 Command: /home/biocbuild/bbs-3.22-bioc/R/bin/R CMD INSTALL marinerData StartedAt: 2025-09-30 10:56:50 -0400 (Tue, 30 Sep 2025) EndedAt: 2025-09-30 10:57:06 -0400 (Tue, 30 Sep 2025) EllapsedTime: 15.3 seconds RetCode: 0 Status: OK