Package: minfiData Version: 0.57.0 Maintainer: Kasper Daniel Hansen MaintainerEmail: kasperdanielhansen at gmail.com git_url: https://git.bioconductor.org/packages/minfiData git_branch: devel git_last_commit: 537d2da git_last_commit_date: 2025-10-29 09:32:41 -0400 (Wed, 29 Oct 2025)