Package: minionSummaryData Version: 1.41.0 Command: /home/biocbuild/bbs-3.23-bioc/R/bin/R CMD INSTALL minionSummaryData StartedAt: 2025-11-13 10:55:11 -0500 (Thu, 13 Nov 2025) EndedAt: 2025-11-13 10:55:13 -0500 (Thu, 13 Nov 2025) EllapsedTime: 1.6 seconds RetCode: 0 Status: OK