Package: mtbls2 Version: 1.39.0 Command: /home/biocbuild/bbs-3.22-bioc/R/bin/R CMD INSTALL mtbls2 StartedAt: 2025-07-17 10:55:37 -0400 (Thu, 17 Jul 2025) EndedAt: 2025-07-17 10:56:14 -0400 (Thu, 17 Jul 2025) EllapsedTime: 36.9 seconds RetCode: 0 Status: OK