Package: multiWGCNAdata Version: 1.7.0 Command: /home/biocbuild/bbs-3.22-bioc/R/bin/R CMD INSTALL multiWGCNAdata StartedAt: 2025-07-17 10:57:30 -0400 (Thu, 17 Jul 2025) EndedAt: 2025-07-17 10:57:38 -0400 (Thu, 17 Jul 2025) EllapsedTime: 8.9 seconds RetCode: 0 Status: OK