Package: muscData Version: 1.23.0 Command: /home/biocbuild/bbs-3.22-bioc/R/bin/R CMD build --keep-empty-dirs --no-resave-data muscData StartedAt: 2025-10-02 11:32:20 -0400 (Thu, 02 Oct 2025) EndedAt: 2025-10-02 11:33:14 -0400 (Thu, 02 Oct 2025) EllapsedTime: 54.6 seconds RetCode: 0 Status: OK PackageFile: muscData_1.23.0.tar.gz PackageFileSize: 230.3 KiB