Package: muscData Version: 1.23.0 Command: /home/biocbuild/bbs-3.22-bioc/R/bin/R CMD INSTALL muscData StartedAt: 2025-10-02 11:01:48 -0400 (Thu, 02 Oct 2025) EndedAt: 2025-10-02 11:02:17 -0400 (Thu, 02 Oct 2025) EllapsedTime: 28.5 seconds RetCode: 0 Status: OK