Package: pRolocdata Version: 1.47.0 Command: /home/biocbuild/bbs-3.22-bioc/R/bin/R CMD INSTALL pRolocdata StartedAt: 2025-10-02 11:01:27 -0400 (Thu, 02 Oct 2025) EndedAt: 2025-10-02 11:02:33 -0400 (Thu, 02 Oct 2025) EllapsedTime: 66.1 seconds RetCode: 0 Status: OK