Package: prostateCancerCamcap Version: 1.37.0 Command: /home/biocbuild/bbs-3.22-bioc/R/bin/R CMD build --keep-empty-dirs --no-resave-data prostateCancerCamcap StartedAt: 2025-07-17 11:35:33 -0400 (Thu, 17 Jul 2025) EndedAt: 2025-07-17 11:36:03 -0400 (Thu, 17 Jul 2025) EllapsedTime: 29.9 seconds RetCode: 0 Status: OK PackageFile: prostateCancerCamcap_1.37.0.tar.gz PackageFileSize: 46.88 MiB