Package: prostateCancerCamcap Version: 1.37.0 Command: /home/biocbuild/bbs-3.22-bioc/R/bin/R CMD INSTALL prostateCancerCamcap StartedAt: 2025-07-17 10:56:06 -0400 (Thu, 17 Jul 2025) EndedAt: 2025-07-17 10:56:23 -0400 (Thu, 17 Jul 2025) EllapsedTime: 16.9 seconds RetCode: 0 Status: OK