Package: rheumaticConditionWOLLBOLD Version: 1.47.0 Command: /home/biocbuild/bbs-3.22-bioc/R/bin/R CMD build --keep-empty-dirs --no-resave-data rheumaticConditionWOLLBOLD StartedAt: 2025-07-17 11:37:23 -0400 (Thu, 17 Jul 2025) EndedAt: 2025-07-17 11:37:25 -0400 (Thu, 17 Jul 2025) EllapsedTime: 2.0 seconds RetCode: 0 Status: OK PackageFile: rheumaticConditionWOLLBOLD_1.47.0.tar.gz PackageFileSize: 20.76 MiB