Package: scATAC.Explorer Version: 1.15.0 Command: /home/biocbuild/bbs-3.22-bioc/R/bin/R CMD build --keep-empty-dirs --no-resave-data scATAC.Explorer StartedAt: 2025-07-10 11:41:29 -0400 (Thu, 10 Jul 2025) EndedAt: 2025-07-10 11:42:09 -0400 (Thu, 10 Jul 2025) EllapsedTime: 40.6 seconds RetCode: 0 Status: OK PackageFile: scATAC.Explorer_1.15.0.tar.gz PackageFileSize: 247.8 KiB