Package: scATAC.Explorer Version: 1.15.0 Command: /home/biocbuild/bbs-3.22-bioc/R/bin/R CMD INSTALL scATAC.Explorer StartedAt: 2025-07-10 11:03:11 -0400 (Thu, 10 Jul 2025) EndedAt: 2025-07-10 11:03:41 -0400 (Thu, 10 Jul 2025) EllapsedTime: 29.9 seconds RetCode: 0 Status: OK