Package: scMultiome Version: 1.9.0 Command: /home/biocbuild/bbs-3.22-bioc/R/bin/R CMD INSTALL scMultiome StartedAt: 2025-07-24 11:02:37 -0400 (Thu, 24 Jul 2025) EndedAt: 2025-07-24 11:03:14 -0400 (Thu, 24 Jul 2025) EllapsedTime: 37.1 seconds RetCode: 0 Status: OK