Package: seqc Version: 1.43.0 Command: /home/biocbuild/bbs-3.22-bioc/R/bin/R CMD build --keep-empty-dirs --no-resave-data seqc StartedAt: 2025-07-10 11:42:20 -0400 (Thu, 10 Jul 2025) EndedAt: 2025-07-10 11:44:25 -0400 (Thu, 10 Jul 2025) EllapsedTime: 125.3 seconds RetCode: 0 Status: OK PackageFile: seqc_1.43.0.tar.gz PackageFileSize: 179.1 MiB