Package: seqc Version: 1.43.0 Command: /home/biocbuild/bbs-3.22-bioc/R/bin/R CMD INSTALL seqc StartedAt: 2025-07-10 10:56:03 -0400 (Thu, 10 Jul 2025) EndedAt: 2025-07-10 10:57:55 -0400 (Thu, 10 Jul 2025) EllapsedTime: 111.4 seconds RetCode: 0 Status: OK